BEGIN:VCALENDAR
VERSION:2.0
PRODID:-//ChamberMaster//Event Calendar 2.0//EN
METHOD:PUBLISH
X-PUBLISHED-TTL:P3D
REFRESH-INTERVAL:P3D
CALSCALE:GREGORIAN
BEGIN:VEVENT
DTSTART;VALUE=DATE:20231020
DTEND;VALUE=DATE:20231021
TRANSP:TRANSPARENT
X-MICROSOFT-CDO-ALLDAYEVENT:TRUE
SUMMARY:It is Another Day®
DESCRIPTION::
X-ALT-DESC;FMTTYPE=text/html:&reg\;&nbsp\;<br />\n&nbsp\; &reg\;:
LOCATION:
UID:e.2178.3590
SEQUENCE:3
DTSTAMP:20260421T173009Z
URL:http://melissas.sampleorg.com/events/details/it-is-another-day-10-20-2023-3590
END:VEVENT

END:VCALENDAR
