BEGIN:VCALENDAR
VERSION:2.0
PRODID:-//ChamberMaster//Event Calendar 2.0//EN
METHOD:PUBLISH
X-PUBLISHED-TTL:P3D
REFRESH-INTERVAL:P3D
CALSCALE:GREGORIAN
BEGIN:VEVENT
DTSTART;VALUE=DATE:20201002
DTEND;VALUE=DATE:20201003
TRANSP:TRANSPARENT
X-MICROSOFT-CDO-ALLDAYEVENT:TRUE
SUMMARY:It is Another Day
DESCRIPTION:Test Test\n\nasdfaasdfadfasdasfsadfasdfsdfsdf\n\nasdfaaaaaaaaaaaaaaaaaasdfadsfsa
X-ALT-DESC;FMTTYPE=text/html:<strong>Test Test</strong><br />\n<em>asdfaasdfadfasdasfsadfasdfsdfsdf<br />\n<strong>asdfaaaaaaaaaaaaaaaaaasdfadsfsa</strong></em>
LOCATION:
UID:e.2178.3554
SEQUENCE:3
DTSTAMP:20260424T073130Z
URL:http://melissas.sampleorg.com/events/details/it-is-another-day-3554
END:VEVENT

END:VCALENDAR
