BEGIN:VCALENDAR
VERSION:2.0
PRODID:-//ChamberMaster//Event Calendar 2.0//EN
METHOD:PUBLISH
X-PUBLISHED-TTL:P3D
REFRESH-INTERVAL:P3D
CALSCALE:GREGORIAN
BEGIN:VEVENT
DTSTART:20181101T170000Z
DTEND:20181101T190000Z
X-MICROSOFT-CDO-ALLDAYEVENT:FALSE
SUMMARY:Festival - Tent vendor
DESCRIPTION:Come out and network with the business community.
X-ALT-DESC;FMTTYPE=text/html:<div style="text-align: center\;">Come out and network with the business community.<br />\n<br />\n&nbsp\;</div>\n<iframe allow="accelerometer\; autoplay\; encrypted-media\; gyroscope\; picture-in-picture" allowfullscreen="" frameborder="0" height="315" src="https://www.youtube.com/embed/pPK-Q1FxgVU" width="560"></iframe>
LOCATION:4035 Broadway City Hall
UID:e.2178.673
SEQUENCE:3
DTSTAMP:20260426T014847Z
URL:http://melissas.sampleorg.com/events/details/lunch-and-learn-11-17-2016-673
END:VEVENT

END:VCALENDAR
