BEGIN:VCALENDAR
VERSION:2.0
PRODID:-//ChamberMaster//Event Calendar 2.0//EN
METHOD:PUBLISH
X-PUBLISHED-TTL:P3D
REFRESH-INTERVAL:P3D
CALSCALE:GREGORIAN
BEGIN:VEVENT
DTSTART;VALUE=DATE:20220819
DTEND;VALUE=DATE:20220820
TRANSP:TRANSPARENT
X-MICROSOFT-CDO-ALLDAYEVENT:TRUE
SUMMARY:Member Event Back Office
DESCRIPTION:member back office
X-ALT-DESC;FMTTYPE=text/html:member back office
LOCATION:member back office
UID:e.2178.3703
SEQUENCE:3
DTSTAMP:20260422T173433Z
URL:http://melissas.sampleorg.com/events/details/member-event-back-office-3703
END:VEVENT

END:VCALENDAR
