BEGIN:VCALENDAR
VERSION:2.0
PRODID:-//ChamberMaster//Event Calendar 2.0//EN
METHOD:PUBLISH
X-PUBLISHED-TTL:P3D
REFRESH-INTERVAL:P3D
CALSCALE:GREGORIAN
BEGIN:VEVENT
DTSTART;VALUE=DATE:20210430
DTEND;VALUE=DATE:20210501
TRANSP:TRANSPARENT
X-MICROSOFT-CDO-ALLDAYEVENT:TRUE
SUMMARY:Pig Mud Bath Day
DESCRIPTION:adding image/pdf
X-ALT-DESC;FMTTYPE=text/html:<a href="https://chambermaster.blob.core.windows.net/userfiles/UserFiles/chambers/2178/File/ItemizedBill_20210317.pdf">adding image/pdf</a>
LOCATION:
UID:e.2178.3688
SEQUENCE:3
DTSTAMP:20260423T222155Z
URL:http://melissas.sampleorg.com/events/details/pig-mud-bath-day-3688
END:VEVENT

END:VCALENDAR
