BEGIN:VCALENDAR
VERSION:2.0
PRODID:-//ChamberMaster//Event Calendar 2.0//EN
METHOD:PUBLISH
X-PUBLISHED-TTL:P3D
REFRESH-INTERVAL:P3D
CALSCALE:GREGORIAN
BEGIN:VEVENT
DTSTART;VALUE=DATE:20230826
DTEND;VALUE=DATE:20230827
TRANSP:TRANSPARENT
X-MICROSOFT-CDO-ALLDAYEVENT:TRUE
SUMMARY:Rubber Ducky River RAce
DESCRIPTION:duck
X-ALT-DESC;FMTTYPE=text/html:duck&nbsp\;&nbsp\;&nbsp\;&nbsp\;&nbsp\;&nbsp\;&nbsp\;&nbsp\;
LOCATION:
UID:e.2178.4031
SEQUENCE:3
DTSTAMP:20260421T185954Z
URL:http://melissas.sampleorg.com/events/details/rubber-ducky-river-race-4031
END:VEVENT

END:VCALENDAR
