BEGIN:VCALENDAR
VERSION:2.0
PRODID:-//ChamberMaster//Event Calendar 2.0//EN
METHOD:PUBLISH
X-PUBLISHED-TTL:P3D
REFRESH-INTERVAL:P3D
CALSCALE:GREGORIAN
BEGIN:VEVENT
DTSTART:20220506T020000Z
DTEND:20220506T100000Z
X-MICROSOFT-CDO-ALLDAYEVENT:FALSE
SUMMARY:Springtime Carefree Time
DESCRIPTION:Springtime Funtime Come\, be happy and carefree.
X-ALT-DESC;FMTTYPE=text/html:Springtime Funtime Come\, be happy and carefree.
LOCATION:Springtime
UID:e.2178.3698
SEQUENCE:3
DTSTAMP:20260422T235043Z
URL:http://melissas.sampleorg.com/events/details/springtime-carefree-time-3698
END:VEVENT

END:VCALENDAR
