BEGIN:VCALENDAR
VERSION:2.0
PRODID:-//ChamberMaster//Event Calendar 2.0//EN
METHOD:PUBLISH
X-PUBLISHED-TTL:P3D
REFRESH-INTERVAL:P3D
CALSCALE:GREGORIAN
BEGIN:VEVENT
DTSTART;VALUE=DATE:20240831
DTEND;VALUE=DATE:20240901
TRANSP:TRANSPARENT
X-MICROSOFT-CDO-ALLDAYEVENT:TRUE
SUMMARY:Testing Icon
DESCRIPTION:testing icon
X-ALT-DESC;FMTTYPE=text/html:testing icon
LOCATION:testing icon
UID:e.2178.4045
SEQUENCE:3
DTSTAMP:20260420T124939Z
URL:http://melissas.sampleorg.com/events/details/testing-icon-4045
END:VEVENT

END:VCALENDAR
