BEGIN:VCALENDAR
VERSION:2.0
PRODID:-//ChamberMaster//Event Calendar 2.0//EN
METHOD:PUBLISH
X-PUBLISHED-TTL:P3D
REFRESH-INTERVAL:P3D
CALSCALE:GREGORIAN
BEGIN:VEVENT
DTSTART:20181024T130000Z
DTEND:20181024T150000Z
X-MICROSOFT-CDO-ALLDAYEVENT:FALSE
SUMMARY:Welcome Wednesday
DESCRIPTION:Come out and meet your business community
X-ALT-DESC;FMTTYPE=text/html:Come out and meet your business community&nbsp\;&nbsp\;&nbsp\;&nbsp\;&nbsp\;&nbsp\;&nbsp\;&nbsp\;
LOCATION:Community Building 125 Civic Place
UID:e.2178.571
SEQUENCE:3
DTSTAMP:20260426T032422Z
URL:http://melissas.sampleorg.com/events/details/welcome-wednesday-10-24-2018-571
END:VEVENT

END:VCALENDAR
