BEGIN:VCALENDAR
VERSION:2.0
PRODID:-//ChamberMaster//Event Calendar 2.0//EN
METHOD:PUBLISH
X-PUBLISHED-TTL:P3D
REFRESH-INTERVAL:P3D
CALSCALE:GREGORIAN
BEGIN:VEVENT
DTSTART;VALUE=DATE:20231206
DTEND;VALUE=DATE:20231207
TRANSP:TRANSPARENT
X-MICROSOFT-CDO-ALLDAYEVENT:TRUE
SUMMARY:Winey Wednesday
DESCRIPTION:"Winey Wednesday"\n\nCome and take a break with us.
X-ALT-DESC;FMTTYPE=text/html:&quot\;Winey Wednesday&quot\;<br />\nCome and take a break with us.
LOCATION:The Winery on Broadway
UID:e.2178.3077
SEQUENCE:3
DTSTAMP:20260421T114006Z
URL:http://melissas.sampleorg.com/events/details/winey-wednesday-12-06-2023-3077
END:VEVENT

END:VCALENDAR
